BEGIN:VCALENDAR
VERSION:2.0
PRODID:-//IJsclub Siberia - ECPv6.15.16//NONSGML v1.0//EN
CALSCALE:GREGORIAN
METHOD:PUBLISH
X-ORIGINAL-URL:https://ijsclubsiberia.nl
X-WR-CALDESC:Evenementen voor IJsclub Siberia
REFRESH-INTERVAL;VALUE=DURATION:PT1H
X-Robots-Tag:noindex
X-PUBLISHED-TTL:PT1H
BEGIN:VTIMEZONE
TZID:UTC
BEGIN:STANDARD
TZOFFSETFROM:+0000
TZOFFSETTO:+0000
TZNAME:UTC
DTSTART:20250101T000000
END:STANDARD
END:VTIMEZONE
BEGIN:VEVENT
DTSTART;TZID=UTC:20260228T140000
DTEND;TZID=UTC:20260228T170000
DTSTAMP:20260421T083744
CREATED:20260112T113359Z
LAST-MODIFIED:20260221T093710Z
UID:12483-1772287200-1772298000@ijsclubsiberia.nl
SUMMARY:Winter Burendag
DESCRIPTION:Het gaat wéér gebeuren! Zaterdag 28 februari van 14:00 – 17:00 uur “De Winter Burendag” in het Johannescentrum én iedereen is welkom\, samen maken we er een vrolijke dag van! Kom jij ook? \n \nSnuffelmarkt\, repaircafé en goede gesprekken\nDeze Burendag is de perfecte gelegenheid voor goede gesprekken en verhalen met een kopje koffie\, thee en hapjes erbij. Maar er is zoveel meer te doen. Er is een snuffelmarkt\, muziek\, een repaircafé (neem kapotte spullen mee om te laten repareren)\, creatieve workshops en knutselactiviteiten. \nGeniet van een handmassage of probeer eens bloemschikken. De kleintjes kunnen volop spelletjes doen en zich laten schminken. \nDe Burendag Wintereditie op zaterdag 28 februari van 14.00 – 17:00 uur is een initiatief van het Johannescentrum en veel buurtorganisaties uit Overvecht: Johannescentrum\, IJsclub Siberia\, Buurthuis Burezina\, Blik&Pot\, Stichting Ons Utrecht\, Hanna’s Herberg\, Dock en Papiercafé\, met steun van het Initiatievenfonds van de Gemeente Utrecht. \nIedereen is welkom! We hopen je daar te zien! \nMeer informatie\nWil je als individu of organisatie iets organiseren voor deze dag stuur dan een email naar christinechoek@gmail.com \nWanneer: zaterdag 28 februari 2026 tussen 14.00 en 17:00 uur\nWaar: Johannescentrum\, Moezeldreef 400 in Utrecht Overvecht
URL:https://ijsclubsiberia.nl/evenementen/winter-burendag-2026/
LOCATION:Johannescentrum\, Moezeldreef 400\, Utrecht\, Utrecht\, 3561 GD\, Nederland
CATEGORIES:Winter
ATTACH;FMTTYPE=image/jpeg:https://ijsclubsiberia.nl/wp-content/uploads/2026/01/230225-Burendag-Wintereditie-2023-3-e1768649775156.jpg
ORGANIZER;CN="IJsclub Siberia":MAILTO:ijsclubsiberia@gmail.com
END:VEVENT
END:VCALENDAR