BEGIN:VCALENDAR
VERSION:2.0
PRODID:-//IJsclub Siberia - ECPv6.15.16//NONSGML v1.0//EN
CALSCALE:GREGORIAN
METHOD:PUBLISH
X-WR-CALNAME:IJsclub Siberia
X-ORIGINAL-URL:https://ijsclubsiberia.nl
X-WR-CALDESC:Evenementen voor IJsclub Siberia
REFRESH-INTERVAL;VALUE=DURATION:PT1H
X-Robots-Tag:noindex
X-PUBLISHED-TTL:PT1H
BEGIN:VTIMEZONE
TZID:UTC
BEGIN:STANDARD
TZOFFSETFROM:+0000
TZOFFSETTO:+0000
TZNAME:UTC
DTSTART:20230101T000000
END:STANDARD
END:VTIMEZONE
BEGIN:VEVENT
DTSTART;TZID=UTC:20240302T140000
DTEND;TZID=UTC:20240302T170000
DTSTAMP:20260421T155304
CREATED:20240205T194743Z
LAST-MODIFIED:20240222T103302Z
UID:10651-1709388000-1709398800@ijsclubsiberia.nl
SUMMARY:Burendag
DESCRIPTION:Zaterdag 2 maart van 14:00 – 17:00 uur “Burendag Wintereditie” in het Johannescentrum én iedereen is welkom\, samen maken we er een vrolijke dag van! De toegang is gratis! \nOok dit jaar komt er weer een gezellige Burendag wintereditie bij het Johannescentrum\,  Moezeldreef 400 Utrecht Overvecht\, naast ijsbaan Park De Watertoren. \nMet een rommelmarkt\, lekker eten\, warme dranken\, verhalen door mensen uit de buurt\, muziek en creatieve activiteiten. \nMet andere woorden een gezellige middag om weer in contact te komen met buurtgenoten. \n\n\nSamen herinneringen maken\n\n\n\n\nTen behoeve van onze publiciteitsactiviteiten worden er foto’s gemaakt. Deze worden ingezet op de sociale media en website voor méér sponsoren\, waardoor onze buitenfeestjes mogelijk blijven. Onze huisfotograaf Ton van de Blaak kun je altijd vragen om je buitenbeeld te houden of juist in beeld. \nFoto’s zijn terug te kijken op Facebook en Instagram \n\n\n#Overvecht #Utrecht #Burendag #SamenVoorOvervecht
URL:https://ijsclubsiberia.nl/evenementen/burendag/
LOCATION:Johannescentrum\, Moezeldreef 400\, Utrecht\, Utrecht\, 3561 GD\, Nederland
CATEGORIES:Winter
ATTACH;FMTTYPE=image/png:https://ijsclubsiberia.nl/wp-content/uploads/2024/02/ijsclub-siberia-winter-5.png
ORGANIZER;CN="IJsclub Siberia":MAILTO:ijsclubsiberia@gmail.com
END:VEVENT
END:VCALENDAR