BEGIN:VCALENDAR
VERSION:2.0
PRODID:-//IJsclub Siberia - ECPv6.15.16//NONSGML v1.0//EN
CALSCALE:GREGORIAN
METHOD:PUBLISH
X-WR-CALNAME:IJsclub Siberia
X-ORIGINAL-URL:https://ijsclubsiberia.nl
X-WR-CALDESC:Evenementen voor IJsclub Siberia
REFRESH-INTERVAL;VALUE=DURATION:PT1H
X-Robots-Tag:noindex
X-PUBLISHED-TTL:PT1H
BEGIN:VTIMEZONE
TZID:UTC
BEGIN:STANDARD
TZOFFSETFROM:+0000
TZOFFSETTO:+0000
TZNAME:UTC
DTSTART:20230101T000000
END:STANDARD
END:VTIMEZONE
BEGIN:VEVENT
DTSTART;TZID=UTC:20240221T080000
DTEND;TZID=UTC:20240221T170000
DTSTAMP:20260421T214339
CREATED:20240131T092759Z
LAST-MODIFIED:20240222T103514Z
UID:10591-1708502400-1708534800@ijsclubsiberia.nl
SUMMARY:Verhalen vertellen en voorlezen door vertellers
DESCRIPTION:Niets lekkerder dan voorgelezen worden. Ontsnappen naar een onbekende wereld. Even wegkruipen op schoot of in een lekkere stoel en luisteren naar de fijne stem van de voorlezer. In de bieb lezen we veel én vaak voor. Schuif aan! Voorlezen is voor een kind heel belangrijk. Het is leerzaam en stimuleert de ontwikkeling van het kind. Bovendien is voorlezen erg gezellig! \n\n \n\n\n\nFoto’s\, verhalen en sportactiviteit\nIn de Voorjaarsvakantie\, woensdag 21 en donderdag 22 februari\, zijn de verhalenvertellers van IJsclub Siberia aanwezig voor een fijn voorleesmoment\, in de Bibliotheek Overvecht. \nOnze huisfotograaf Ton van de Blaak van 5 februari t/m 25 februari zijn foto’s zien in de Bibliotheek Overvecht. \nNa de vertelling zijn de sportaanbieder Luna Movement en de Photobooth van Nick van den Berg ook aanwezig in de Voorjaarsvakantie op 21 en 22 februari 15:00 – 18:00 uur met activiteiten. Meer informatie via Bibliotheek Overvecht via deze link  \nDe foto’s van Ton van de Blaak zijn ook terug te zien op Instagram \n\n\nSamen herinneringen maken\n\n\n\n\nTen behoeve van onze publiciteitsactiviteiten worden er foto’s gemaakt. Deze worden ingezet op de sociale media en website voor méér sponsoren\, waardoor onze buitenfeestjes mogelijk blijven. Onze huisfotograaf Ton van de Blaak kun je altijd vragen om je buitenbeeld te houden of juist in beeld. \nFoto’s zijn terug te kijken op Facebook en Instagram \n\n\nOpeningstijden van de Bibliotheek Overvecht\nmaandag 14:00 – 18:00 uur\ndinsdag 10:00 – 18:00 uur\nwoensdag 10:00 – 18:00 uur\ndonderdag 10:00 – 18:00 uur\nvrijdag 10:00 – 18:00 uur\nzaterdag 10:00 – 17:00 uur\nzondag  gesloten \nMeer informatie via Bibliotheek Overvecht via deze link  \nDe foto’s van Ton van de Blaak zijn ook terug te zien op Instagram \n 
URL:https://ijsclubsiberia.nl/evenementen/verhalen-vertellen-en-voorlezen-door-vertellers/
LOCATION:Bibliotheek Overvecht\, Gloriantdreef 1\, Utrecht Overvecht\, Utrecht\, 13562 KW
CATEGORIES:Winter
ATTACH;FMTTYPE=image/png:https://ijsclubsiberia.nl/wp-content/uploads/2024/01/ijsclub-siberia-winter-4.png
ORGANIZER;CN="IJsclub Siberia":MAILTO:ijsclubsiberia@gmail.com
END:VEVENT
BEGIN:VEVENT
DTSTART;TZID=UTC:20240221T163000
DTEND;TZID=UTC:20240221T173000
DTSTAMP:20260421T214339
CREATED:20240131T092945Z
LAST-MODIFIED:20240222T103449Z
UID:10593-1708533000-1708536600@ijsclubsiberia.nl
SUMMARY:Luna Movement sportactiviteit
DESCRIPTION:In de bieb lezen we veel én vaak voor. Voorlezen is erg gezellig. En daarna samen spelen en sporten met IJsclub Siberia. Ook dat stimuleert de ontwikkeling van het kind. Doe mee\, in de Voorjaarsvakantie\, met de sportactiviteit van Luna Movement. \n\n \n\n\n\nFoto’s\, verhalen en sportactiviteit\nIn de Voorjaarsvakantie\, woensdag 21 en donderdag 22 februari\, zijn de verhalenvertellers van IJsclub Siberia aanwezig voor een fijn voorleesmoment\, in de Bibliotheek Overvecht. \n\nNa de vertelling zijn de sportaanbieder Luna Movement en de Photobooth van Nick van den Berg ook aanwezig van 15:00 – 18:00 uur met activiteiten. \n\n\nSamen herinneringen maken\n\n\n\n\nTen behoeve van onze publiciteitsactiviteiten worden er foto’s gemaakt. Deze worden ingezet op de sociale media en website voor méér sponsoren\, waardoor onze buitenfeestjes mogelijk blijven. Onze huisfotograaf Ton van de Blaak kun je altijd vragen om je buitenbeeld te houden of juist in beeld. \nFoto’s zijn terug te kijken op Facebook en Instagram \n\n\n\nOpeningstijden van de Bibliotheek Overvecht\nmaandag 14:00 – 18:00 uur\ndinsdag 10:00 – 18:00 uur\nwoensdag 10:00 – 18:00 uur\ndonderdag 10:00 – 18:00 uur\nvrijdag 10:00 – 18:00 uur\nzaterdag 10:00 – 17:00 uur\nzondag  gesloten \nMeer informatie via Bibliotheek Overvecht via deze link  \nDe foto’s van Ton van de Blaak zijn ook terug te zien op Instagram \n 
URL:https://ijsclubsiberia.nl/evenementen/luna-movement-sportactiviteit/
LOCATION:Bibliotheek Overvecht\, Gloriantdreef 1\, Utrecht Overvecht\, Utrecht\, 13562 KW
CATEGORIES:Winter
ATTACH;FMTTYPE=image/jpeg:https://ijsclubsiberia.nl/wp-content/uploads/2024/01/run-1321278_1280.jpg
ORGANIZER;CN="IJsclub Siberia":MAILTO:ijsclubsiberia@gmail.com
END:VEVENT
END:VCALENDAR