BEGIN:VCALENDAR
VERSION:2.0
PRODID:-//IJsclub Siberia - ECPv6.15.16//NONSGML v1.0//EN
CALSCALE:GREGORIAN
METHOD:PUBLISH
X-WR-CALNAME:IJsclub Siberia
X-ORIGINAL-URL:https://ijsclubsiberia.nl
X-WR-CALDESC:Evenementen voor IJsclub Siberia
REFRESH-INTERVAL;VALUE=DURATION:PT1H
X-Robots-Tag:noindex
X-PUBLISHED-TTL:PT1H
BEGIN:VTIMEZONE
TZID:UTC
BEGIN:STANDARD
TZOFFSETFROM:+0000
TZOFFSETTO:+0000
TZNAME:UTC
DTSTART:20240101T000000
END:STANDARD
END:VTIMEZONE
BEGIN:VEVENT
DTSTART;TZID=UTC:20250125T080000
DTEND;TZID=UTC:20250125T170000
DTSTAMP:20260421T155446
CREATED:20240131T093848Z
LAST-MODIFIED:20250118T195518Z
UID:10611-1737792000-1737824400@ijsclubsiberia.nl
SUMMARY:Nieuwjaarsbijeenkomst
DESCRIPTION:Afgelopen jaren hebben we met elkaar sfeervolle activiteiten\, met en óók zonder natuurijs\, georganiseerd. Om onze vrijwilligers te bedanken organiseren we weer een nieuwjaarsbijeenkomst bij Buurthuis Burezina op 25 januari van 15:30 – 17:30 uur. \n \n  \nWe hopen als Bestuur met betrokken vrijwilligers\, partners en deelnemers weer te proosten op het nieuwe jaar. \nDank voor jullie inzet! \n 
URL:https://ijsclubsiberia.nl/evenementen/nieuwjaarsbijeenkomst/
LOCATION:Buurthuis Burezina\, Jeanne d'Arcdreef 1\, Utrecht\, 3561SB
CATEGORIES:Winter
ATTACH;FMTTYPE=image/png:https://ijsclubsiberia.nl/wp-content/uploads/2024/01/ijsclub-siberia-winter-11.png
ORGANIZER;CN="IJsclub Siberia":MAILTO:ijsclubsiberia@gmail.com
END:VEVENT
END:VCALENDAR