BEGIN:VCALENDAR
VERSION:2.0
PRODID:-//IJsclub Siberia - ECPv6.15.16//NONSGML v1.0//EN
CALSCALE:GREGORIAN
METHOD:PUBLISH
X-ORIGINAL-URL:https://ijsclubsiberia.nl
X-WR-CALDESC:Evenementen voor IJsclub Siberia
REFRESH-INTERVAL;VALUE=DURATION:PT1H
X-Robots-Tag:noindex
X-PUBLISHED-TTL:PT1H
BEGIN:VTIMEZONE
TZID:UTC
BEGIN:STANDARD
TZOFFSETFROM:+0000
TZOFFSETTO:+0000
TZNAME:UTC
DTSTART:20250101T000000
END:STANDARD
END:VTIMEZONE
BEGIN:VEVENT
DTSTART;VALUE=DATE:20261228
DTEND;VALUE=DATE:20261229
DTSTAMP:20260424T084400
CREATED:20260120T122746Z
LAST-MODIFIED:20260202T171821Z
UID:12106-1798416000-1798502399@ijsclubsiberia.nl
SUMMARY:IJsbaan Park De Watertoren
DESCRIPTION:IJsclub Siberia bereidt zich zo goed mogelijk voor op alles wat hartje winter ons brengt. Onze ijsmeesters verzorgen de natuurijsbaan door sneeuw te schuiven en water in te laten. Onze weerman Arie Verrips geeft regelmatig een update van het actuele winterweer. Blijf op de hoogte en zorg ervoor dat je regelmatig ons Nieuwsbericht leest. Tot ziens bij schaatsbaan IJsclub Siberia! \n\n \nMeer weten over onze natuurijsbaan\n\n\n“Schaatsplezier bij IJsclub Siberia”\n\nAls de schaatsbaan voldoende dik ijs heeft (7 cm) is de toegang tussen 10.00 en 22.00 uur gratis!\nLocatie: Utrecht Overvecht naast het Johan Cruyff Court Marnedreef.\nLeenschaatsen: Het lenen van schaatsen is gratis. Beperkt aantal kinderschaatsen tot maat 38 beschikbaar.\nDonaties: via NL64 INGB 000 6852791 tnv IJsclub Siberia\n\n\nContactgegevens\n\nEmail: ijsclubsiberia@gmail.com\nTelefoon: 06-41679005\nVolg IJsclub Siberia op Facebook en Instagram.\n\nVoor de laatste KNMI weersverwachtingen: KLIK HIER
URL:https://ijsclubsiberia.nl/evenementen/ijsbaan-park-de-watertoren-2026/
LOCATION:Natuurijsbaan Park De Watertoren\, La Bohemedreef\, Utrecht Overvecht\, Utrecht
CATEGORIES:Winter
ATTACH;FMTTYPE=image/jpeg:https://ijsclubsiberia.nl/wp-content/uploads/2025/03/250303-Header-Website-2025-18-e1763641992367.jpg
ORGANIZER;CN="IJsclub Siberia":MAILTO:ijsclubsiberia@gmail.com
END:VEVENT
END:VCALENDAR