BEGIN:VCALENDAR
VERSION:2.0
PRODID:-//IJsclub Siberia - ECPv6.15.16//NONSGML v1.0//EN
CALSCALE:GREGORIAN
METHOD:PUBLISH
X-ORIGINAL-URL:https://ijsclubsiberia.nl
X-WR-CALDESC:Evenementen voor IJsclub Siberia
REFRESH-INTERVAL;VALUE=DURATION:PT1H
X-Robots-Tag:noindex
X-PUBLISHED-TTL:PT1H
BEGIN:VTIMEZONE
TZID:UTC
BEGIN:STANDARD
TZOFFSETFROM:+0000
TZOFFSETTO:+0000
TZNAME:UTC
DTSTART:20240101T000000
END:STANDARD
END:VTIMEZONE
BEGIN:VEVENT
DTSTART;TZID=UTC:20250618T160000
DTEND;TZID=UTC:20250618T183000
DTSTAMP:20260423T174428
CREATED:20250506T102203Z
LAST-MODIFIED:20250601T204735Z
UID:11931-1750262400-1750271400@ijsclubsiberia.nl
SUMMARY:Zomerfeest Park de Watertoren
DESCRIPTION:Op woensdagmiddag 18 juni 16:00 – 18:30 uur organiseren we samen met het NUOVO Pouwercollege een gezellig “Zomerfeest”; zomermarkt en buurtfeest bij natuurijsbaan Park De Watertoren. En met mooi weer is het waterbadje bij Park De Watertoren open! Deelname is gratis!  \n\nZomerfeest 2025\nBuren ontmoeten elkaar op het gezellige terras en kinderen springen op het luchtkussen\, genieten van lekkere hapjes en muziek. \nJe kunt meedoen met de Kleurplaten wedstrijd voor basisschoolleerlingen. \nEn je kunt meedoen met verschillende workshops. \nJe kunt mooie prijzen (voor verschillende leeftijdsgroepen) winnen bij het Rad van Fortuin oa. een nieuwe fiets of één van de nieuwe skates van onze partner FILA SKATES. \nEen greep uit de gratis activiteiten:\nSpringkussen • Boomklimmen • Rad van fortuin mét mooie prijzen • workshops en vintage markt • gratis sminken • zwembadje • luisteren naar muziek • oud Hollandse spelletjes • workshops en vintage markt • activiteiten van de Pouwercollege Winkelstraat • Knutselen happy stones • Sport- en spelactiviteiten met Luna Movement. \n\n\n\nOver Pouwercollege\nPouwercollege is een school voor praktijkonderwijs in de wijk Overvecht Zuid. De leerlingen van Pouwercollege leren door doen in een betekenisvolle omgeving. Het Pouwercollege ondersteunt IJsclub Siberia in het beheer en organiseren van de natuurijsbaan in Park De Watertoren aan de Marnedreef in Overvecht als het vriest. \n  \n\n\n\n\n“Iedereen is welkom!”\n\nDeelname is geheel op eigen risico. We doen ons best alles zo veilig mogelijk te laten lopen. U bent zelf aansprakelijk voor eventueel geleden schade. Kinderen wel graag onder begeleiding.\nVolg de aanwijzingen van de medewerkers. Langs het parcours en langs de weg staan medewerkers die zorgen dat alles in goede banen loopt.\nKom jij ons helpen? Baanmakers en mooimakers gezocht; We zijn op zoek naar vrijwilligers om het event mogelijk te maken. Het wordt een feest om dit samen te organiseren. Je doet ervaring op met het organiseren van events en je geeft de bezoekers een mooie ervaring. Meer info klik op deze link.\nKom lopend of op de fiets. Het is het snelst en het makkelijkst om met de fiets te komen (5 minuten vanaf Shoppingcentrum Overvecht).\nVreedzame leefomgeving zijn we samen! Samen zijn we verantwoordelijk voor een prettige leefomgeving. Kinderen\, jongeren\, ouders\, opvoeders kunnen hier een grote bijdrage aan leveren. Samen werken we aan een veilige en vreedzame wijk\, waar bewoners zich betrokken voelen en gezamenlijk verantwoordelijkheid nemen voor het creëren van een prettige leefomgeving.\nMocht je bezwaar hebben betreft plaatsen van foto’s stuur een screenshot naar info@ijsclubsiberia.nl\nMeer informatie telefoon 06-41679005\n\n\n\n\nPouwercollege en IJsclub Siberia willen ‘positief verbinden’. \nDaar word je warm van! \n \n\n\n\n 
URL:https://ijsclubsiberia.nl/evenementen/zomerfeest-park-de-watertoren-2025/
LOCATION:Natuurijsbaan Park De Watertoren\, La Bohemedreef\, Utrecht Overvecht\, Utrecht
CATEGORIES:Zomer
ATTACH;FMTTYPE=image/jpeg:https://ijsclubsiberia.nl/wp-content/uploads/2025/05/16-juni-2022-Ton-van-de-Blaak-PC-Zomerfeest-2022-12-scaled-e1746527006412.jpg
ORGANIZER;CN="Nuovo Pouwercollege - MPower":MAILTO:info@pouwercollege.nl
END:VEVENT
BEGIN:VEVENT
DTSTART;TZID=UTC:20260614T123000
DTEND;TZID=UTC:20260614T173000
DTSTAMP:20260423T174428
CREATED:20260111T110312Z
LAST-MODIFIED:20260122T185209Z
UID:12475-1781440200-1781458200@ijsclubsiberia.nl
SUMMARY:Skatefeest Roll Out
DESCRIPTION:Zondag 14 juni 2026 – IJsclub Siberia en Freeskating Utrecht organiseren het Skatefeest Roll Out op de skatebaan in Noorderpark-Ruigenhoek. Tussen 12.30 en 14.30 uur zijn er diverse workshops en een roller-cross voor kinderen; ná 15.00 uur is het event open voor jong en oud. All wheels are welcome! Heb je geen skates? Er zijn gratis inline skates en bescherming om te lenen. \n\n \nEen tof skatefeest voor iedereen!\nTijd om je step\, skateboard\, skates of rolschaatsen uit de kast te halen en je moves te laten zien op dit te gekke skatefeest. Skatefeest Roll Out biedt een dag vol muziek en plezier op de skatebaan in Noorderpark-Ruigenhoek\, voor beginners én doorgewinterde skaters. Iedereen is welkom om mee te doen! \nWat kun je verwachten:\n\nDemonstraties: Outdoor sports\, skaten en roller-cross.\nWorkshops: Tussen 12.30 en 14.00 uur zijn er speciale workshops en roller-cross voor kinderen.\nProgramma: 12:30 -13:00 uur Skates aantrekken met kids en skates uitdelen aan kids zonder skates 13:00 uur Centrale warming up 13:05 uur Introductie van FSUers en workshops 13:15 iedereen 1-2 rondjes skaten om de 400 meter baan. 13:30 uur start workshops ronde 1 (vrije keuze) 14:15 uur groepsfoto14:30 uur start workshops ronde 2 (vrije keuze). 15:00 uur gezamelijke afsluiting kids skate workshops.\nOpen Skate: Ná 15.00 uur is het evenement open voor jong en oud met diverse workshops\, photobooth\, muziek en buitenspeelplezier.\n\n\nBelangrijke Informatie:\n\nEigen Skates: Neem je eigen step\, skates\, rollerskates of skateboards mee (alles met wieltjes).\nGratis Lenen: Geen eigen skates? Geen probleem! Er zijn gratis KNSB inline skates en beschermingsmiddelen om te lenen.\nEten en Drinken: Vanuit de pipowagen van IJsclub Siberia zijn er lekkere hapjes\, ijs en drankjes te krijgen.\nDeelname is geheel op eigen risico: U bent zelf aansprakelijk voor eventueel geleden schade.\nVolg de aanwijzingen van de medewerkers: We doen ons best alles zo veilig mogelijk te laten lopen.\nKom lopend of op de fiets: Het is het snelst om met de fiets te komen (10 minuten vanaf centrum Utrecht Overvecht).\nLocatie: Skatebaan Ruigenhoek in het Noorderpark Utrecht Overvecht ingang via Kanonsdijk.\nJe kunt je auto de hele dag parkeren voor €2\,50 bij Paviljoen De Ruigenhoek.\n\nWeerbericht\nOnze weerman Arie Verrips geeft tzt. een actueel weerbericht. Vorig jaar (2025) was er een middagtemperatuur met een graad van 20 tot 25 graden. \nNeem je kleurplaat & moves mee!\nNeem je ingekleurde kleurplaat mee en bij inlevering kun je een cadeau grabbelen uit de grabbelton (kijk naar de kleurplaten verspreid via de Overvechtse basisscholen) of via Dropbox link \nHet event is all wheels-inclusive! Of je nu een doorgewinterde skater bent of net begint\, iedereen is welkom om mee te doen. \nDoe gezellig mee en beleef een onvergetelijke dag vol actie en plezier!  \nSociale media\n\n\nTen behoeve van onze publiciteitsactiviteiten worden er foto’s gemaakt. Deze worden ingezet op de sociale media en website voor méér sponsoren\, waardoor onze buitenfeestjes mogelijk blijven. Onze huisfotograaf Ton van de Blaak kun je altijd vragen om je buitenbeeld te houden of juist in beeld. Foto’s zijn terug te kijken op Facebook en Instagram \n\nDeel jouw skateavonturen en favoriete momenten met de hashtag #Skatefeest en laten we samen herinneringen maken!\n\n\n\n\n\n#Skate4daagse #freeskatingutrecht #ijsclubsiberia  #Ruig030 #Skateparkruigenhoek #NoorderparkRuigenhoek #Rollercross 
URL:https://ijsclubsiberia.nl/evenementen/skatefeest-2026/
CATEGORIES:Zomer
ATTACH;FMTTYPE=image/jpeg:https://ijsclubsiberia.nl/wp-content/uploads/2026/01/09-juni-2024-naamloos014-e1768650882901.jpg
ORGANIZER;CN="IJsclub Siberia":MAILTO:ijsclubsiberia@gmail.com
END:VEVENT
BEGIN:VEVENT
DTSTART;TZID=UTC:20260829T130000
DTEND;TZID=UTC:20260829T170000
DTSTAMP:20260423T174428
CREATED:20260110T123538Z
LAST-MODIFIED:20260414T182010Z
UID:12477-1788008400-1788022800@ijsclubsiberia.nl
SUMMARY:Over De Brug Feest
DESCRIPTION:Op de laatste zaterdag van augustus\, 29 augustus 2026 van 13:00 – 17:00 uur\, bruist het weer in het Speelbos Gagelbos van de feestelijke activiteiten! Zet hem vast in je agenda. Een middag vol avontuur in de natuur ism. Dock Utrecht\, Stadsboerderij Gagelsteede\, Staatsbosbeheer\, Luna Movement en IJsclub Siberia. Toegang is gratis.  \nPhoto © 2025 Joris Louwes http://www.pushthisbutton.com Over de Brug Feest 2025 \n\nBuitenspeelplezier in Speelbos Gagelbos\nMaak je klaar voor de 11e editie van het Over de Brug Feest! Ook dit jaar barst het Speelbos Gagelbos uit zijn voegen van plezier\, muziek\, natuuractiviteiten en verwondering. IJsclub Siberia organiseert samen met Dock Utrecht\, Stadsboerderij Gagelsteede\, Staatsbosbeheer\, Luna Movement en vele vrijwilligers een middag vol avontuur – dit keer met het thema “Leven onder de grond!” \n\nOntdek hoe rijk het leven om ons heen en vooral onder de grond is! In het bos\, in het water\, in de lucht en zelfs onder de grond gonst het van activiteit. Hoe werken planten\, insecten\, vogels en dieren samen? \nGa mee op ontdekkingstocht met speurtochten\, creatieve workshops\, en activiteiten waarin je zelf een stukje van de natuur wordt. Spelen tot je groen (en vrolijk!) wordt. \nGratis activiteiten voor jong en oud \nEr is weer genoeg te beleven! Een selectie van 2026-editie activiteiten: \n🌱 Speurtocht met Staatsbosbeheer – ontdek al het leven onder de grond in het Speelbos Gagelbos. \n🦋 Knutselatelier “Natuur in Beweging” met Hadewich\, Marlies\, Esther en Eemken. \n🎨 Botanische kunst maken met Ying Yi. \n🐜 Slangenhoop bouwen met IVN en Pieter – leer alles over kleine bosbewoners. \n🎪 Compagnie Entropie – acrobatiek tussen de bomen met dieren in balans. \n💃💃 BIG Playground – dansen met Merel en Fleur – voetjes van de grond. \n🎭 Muziek en theater door Sam & Set Musical kids\, Aldo Poppentheater\, Mattino & de Bosdiertjes en De Sprookjestuin met Fee Hartenvolger en friends. \n👣 Luna Movement – kruip als een mol door een tunnel\, ren als een konijn\, spring als een krekel en sluip als een ringslang. \n📸 Photobooth\, sminken en verkleden – krijg je eigen look in alle kleuren van de regenboog! \n🌳 Klimmen en klauteren met Ludus Outdoor – voel je deel van het bos. \nNieuw dit jaar: Biodiversiteitstent met microscopen\, zaadbommen en een mini-expositie over “Leven onder de grond”. \nKunst & Verhalen\nLaat je meevoeren door de verhalen van de boswachter en vertellers Marijke\, Barbara en Saskia. Luister naar verhalen over water\, aarde\, groei en verwondering. Kunstenares Saskia Koster brengt nieuw beeldend werk — een natuurlijke installatie over samenwerking tussen mens en natuur. \nPhoto © 2025 Joris Louwes http://www.pushthisbutton.com Over de Brug Feest 2025 \nEten & Drinken\nVanuit de bekende pipowagen van IJsclub Siberia geniet je van lekkere hapjes\, poffertjes\, ijs en drankjes. Er is Koek & Zopie\, limonade en koffie. Eigen picknick meenemen mag! De opbrengst van de dag gaat weer naar Stichting KiKa – voor onderzoek naar kinderkanker. \nKleurplaatactie\nOnze vormgeefster Hade heeft opnieuw een prachtige kleurplaat ontworpen met het thema “Bos vol leven”. Download hem via onze website of social media\, kleur mee\, en lever je kunstwerk in op het feest – dan wacht er een verrassing uit de grabbelton! \nPhoto © 2025 Joris Louwes http://www.pushthisbutton.com Over de Brug Feest 2025 \nPraktische informatie\n📍 Locatie: Speelbos Gagelbos & Fort De Gagel Gageldijk 167\, Utrecht-Overvecht\n🚲 Kom op de fiets of lopend: Het bos ligt op slechts 10 minuten fietsen vanaf het centrum van Overvecht.\n🦶 Eigen risico: Deelname is gratis en geheel op eigen risico.\n🌈 Weerbericht: Onze weerman Arie Verrips zorgt tzt. voor een actueel weerbericht. Ook bij een klein buitje gaat het feest door. Regen brengt extra leven – én extra kleur met regenbogen! \nSamen maken we buitenplezier\nHet Over de Brug Feest is een initiatief van betrokken buurtpartners en enthousiaste vrijwilligers. Wil je helpen met bouwen\, schminken\, begeleiden of Koek & Zopie?\n👉 Meld je aan bij Team IJsclub Siberia! \nFoto’s en vervolg\nTijdens het feest worden foto’s gemaakt ten behoeve van publiciteit en sponsoraanvragen. Bekijk na afloop de mooiste momenten op onze Facebook en Instagram pagina’s. \nMeer info? Bel 06-41679005 of bezoek de websites van IJsclub Siberia en Utrecht Natuurlijk. \nKlim\, klauter\, speel met modder. Wordt lekker vies en ga voldaan naar huis. Spelen tot je groen word! \n\nPlattegrond\n\n\n\n\n\n \n\n\n\n\n  \n\n     
URL:https://ijsclubsiberia.nl/evenementen/over-de-brug-feest-2026/
LOCATION:Het Speelbos Gagelbos\, Gageldijk 104C\, Utrecht\, Utrecht\, 3566 MH\, Nederland
CATEGORIES:Zomer
ATTACH;FMTTYPE=image/jpeg:https://ijsclubsiberia.nl/wp-content/uploads/2026/01/250830-OVDB-c-Joris-Louwes-24-kopie-e1768651699814.jpg
ORGANIZER;CN="Staatsbosbeheer":MAILTO:utrechtwest@staatsbosbeheer.nl 
END:VEVENT
END:VCALENDAR